BEGIN:VCALENDAR
VERSION:2.0
PRODID:-//Let’s Talk About History! - ECPv6.3.7//NONSGML v1.0//EN
CALSCALE:GREGORIAN
METHOD:PUBLISH
X-WR-CALNAME:Let’s Talk About History!
X-ORIGINAL-URL:https://ltah.uni.lu
X-WR-CALDESC:Events for Let’s Talk About History!
REFRESH-INTERVAL;VALUE=DURATION:PT1H
X-Robots-Tag:noindex
X-PUBLISHED-TTL:PT1H
BEGIN:VTIMEZONE
TZID:Europe/Helsinki
BEGIN:DAYLIGHT
TZOFFSETFROM:+0200
TZOFFSETTO:+0300
TZNAME:EEST
DTSTART:20230326T010000
END:DAYLIGHT
BEGIN:STANDARD
TZOFFSETFROM:+0300
TZOFFSETTO:+0200
TZNAME:EET
DTSTART:20231029T010000
END:STANDARD
END:VTIMEZONE
BEGIN:VEVENT
DTSTART;TZID=Europe/Helsinki:20230419T183000
DTEND;TZID=Europe/Helsinki:20230419T200000
DTSTAMP:20260424T065023
CREATED:20230411T115227Z
LAST-MODIFIED:20231102T154640Z
UID:880-1681929000-1681934400@ltah.uni.lu
SUMMARY:Soigner au pendule. Les radiesthésistes dans le champ de la santé au début du XXe siècle - Professeur Hervé Guillemain
DESCRIPTION:Tout le monde connaît le professeur Tournesol qui agitait un pendule dans les illustrés de Tintin. On sait moins que la pratique a eu son versant médical. La radiesthésie est une nouvelle discipline développée par des amateurs de science\, des prêtres notamment\, tous portés par les espoirs liés aux découvertes savantes sur les ondes radios. Comme les sourciers qui cherchaient l’eau avec les baguettes\, il s’agissait pour eux de découvrir des choses cachées du corps en utilisant un objet pour prolonger la sensibilité de l’individu. Le diagnostic et le soin au pendule apparaissent dans les années 1930 et génèrent de nombreuses pratiques aujourd’hui oubliées. La conférence mettra au jour cette histoire en s’appuyant sur des archives inédites. \n  \nLe lecteur: Dr. Hervé Guillemain (Le Mans Université) \nHervé Guillemain\, historien\, est professeur à Le Mans Université\, TEMOS CNRS 9016. Ses travaux portent sur l’histoire de la santé et développent une approche décentrée du pouvoir médical : histoire des patients en psychiatrie (Schizophrènes au XXe siècle)\, histoire des amateurs dans le champ de la santé\, histoire des pratiques alternatives de soin. Il est co-directeur de la revue Histoire\, Médecine et santé\, responsable du projet multimédia DicoPolHiS (Dictionaire Politique d’Histoire de la Santé) et animateur du podcast La Piqûre de rappel dédié à l’histoire de la santé. \n  \nVenue: Maison de Savoir (MSA)\, Auditoire 4.520 \n  \nProgramme \n18h30 : Inscription \n18h45 : Présentation \n19h30 : questions et discussion \n20h00 : Réception \nAvec le soutien de C²DH\, IHIST\, et Historic.ul
URL:https://ltah.uni.lu/calendar/soigner-au-pendule-les-radiesthesistes-dans-le-champ-de-la-sante-au-debut-du-xxe-siecle-professeur-herve-guillemain/
LOCATION:Université du Luxembourg – Maison du Savoir (MSA)\, 2\, avenue de l'Université\, Esch-sur-Alzette\, 4365\, Luxembourg
CATEGORIES:Past Events
END:VEVENT
END:VCALENDAR